Workbook

Sheet MS 1
A1: LAMPIRAN D
A2: BORANG TUNTUTAN ELAUN PERJALANAN DALAM NEGERI WP1.4 BAGI BULAN FEBRUARI 2026
A3: MAKLUMAT PEGAWAI
A4: Nama (Huruf Besar) | D4: : AZLI HIZAM BIN IBRAHIM
A5: No. Kad Pengenalan | D5: : 780513-14-6065
A6: Jawatan | D6: : PENOLONG PEGAWAI TEKNOLOGI MAKLUMAT
A7: Gred | D7: : FA6
A8: No. Akaun Bank | D8: : 2208206211
A9: Nama Bank | D9: : BANK KERJASAMA RAKYAT MALAYSIA
A10: No. Telefon (Pejabat/Bimbit) | D10: : 06-7659766 / 013-3263666
A11: Pendapatan (RM) | D11: Gaji (RM) | E11: : 5483.58
D12: Elaun-elaun (RM) | E12: : 810.00
D13: Jumlah (RM) | E13: : 6293.58
A14: Kenderaan | D14: Kereta | F14: Motosikal
D15: Jenis/ Model : CHERY EASTER | F15: Jenis/ Model :
D16: No. Pendaftaran : WWR6196 | F16: No. Pendaftaran :
A17: Alamat Pejabat | D17: TINGKAT 3, BLOK D, WISMA NEGERI, 70503 SEREMBAN, NEGERI SEMBILAN DARUL KHUSUS
A18: Alamat Rumah Pegawai yang Didaftarkan di Kementerian/Jabatan | D18: NO. 20, JALAN D'BELSA 3, TAMAN BANDAR SENAWANG, 70450 SEREMBAN, NEGERI SEMBILAN DARUL KHUSUS
A19: *Alamat Rumah Pemandu / Juruiring / Pengiring Rapat / Pengawal Peribadi yang Didaftarkan di Kementerian /Jabatan (jika berkaitan)
A20: *Alamat Rumah Majikan (Anggota Pentadbiran/ Pegawai Pengurusan Tertinggi Gred Jusa B dan ke atas) (jika berkaitan)
A21: - Sila tambah ruangan jika tidak mencukupi. *Ruangan ini diisi oleh pegawai yang layak membuat tuntutan perjalanan di bawah PP WP1.6.

Sheet MS 2
A2: KENYATAAN TUNTUTAN
A3: Tarikh | B3: Waktu | D3: Butiran Tuntutan | E3: Jarak (km)
B4: Bertolak | C4: Tiba
A6: 03.02.2026 | B6: 8.00 am | C6: 9.00 am | D6: Dari : Rumah
A7: Selasa
D8: Ke : PPD Tampin
D10: Tujuan : Penyelenggaraan Rangkaian
B13: 4.30 pm | C13: 6.00 pm | D13: Dari : PPD Tampin
D15: Ke : Rumah
D17: Tujuan :
D19: Tujuan :
D22: Layak tuntut :
D28: Dari :
D31: Ke :
D34: Tujuan :
D37: Layak tuntut :
D38: Tol :
D41: Dari :
D44: Ke :
D47: Tujuan :
D50: Layak tuntut :
A55: JUMLAH | E55: =SUM(E5:E54) -> 0
A56: - Sila tambah ruangan jika tidak mencukupi. - Pegawai perlu menyatakan dengan jelas butiran tuntutan di kenyataan tuntutan seperti berikut: Perjalanan pergi dan pulang: 1. Lokasi tempat bertolak. 2. Lokasi tempat dituju. 3. Tujuan perjalanan. 4. Lain-lain tuntutan (sekiranya ada): (a) Caj/bayaran parkir; (b) Caj/bayaran tol sekiranya ada; (c) Elaun makan/harian sekiranya ada; (d) Tuntutan hotel/lojing sekiranya ada; dan/atau (e) Lain-lain tuntutan sekiranya ada.

Sheet MS 3
A1: A - KEMUDAHAN MAKAN MINUM
A2: ELAUN MAKAN/ ELAUN HARIAN (SEMENANJUNG MALAYSIA) | K2: ELAUN MAKAN/ ELAUN HARIAN (SABAH/ SARAWAK/ WP LABUAN)
A3: ELAUN MAKAN | K3: ELAUN MAKAN
A4: Bahagian Makan | F4: Bil. Dituntut | G4: Bil. Hari | J4: RM | K4: Bahagian Makan | M4: Bil. Dituntut | N4: Bil. Hari | P4: RM
A5: Sarapan Pagi (20%) | F5: - | G5: - | J5: - | K5: Sarapan Pagi (20%) | M5: - | N5: - | P5: -
A6: Makan Tengah Hari (40%) | F6: - | G6: - | J6: - | K6: Makan Tengah Hari (40%) | M6: - | N6: - | P6: -
A7: Makan Malam (40%) | F7: - | G7: - | J7: - | K7: Makan Malam (40%) | M7: - | N7: - | P7: -
A8: Jumlah | F8: - | G8: - | J8: - | K8: Jumlah | M8: - | N8: - | P8: -
A9: RM | E9: (Elaun Makan) x | H9: hari = RM | K9: RM | L9: (Elaun Makan) x | O9: hari = RM
A10: ELAUN HARIAN | K10: ELAUN HARIAN
A11: 20 | E11: (Elaun Harian) x | H11: hari = RM 20.00 | K11: RM | L11: (Elaun Harian) x | O11: hari = RM
A12: Jumlah (RM) | J12: 0 | K12: Jumlah (RM)
A13: JUMLAH (A - KEMUDAHAN MAKAN MINUM) | O13: RM | P13: =SUM(J12+P12) -> 0
A15: - Sila tambah ruangan jika tidak mencukupi.
A16: B - KEMUDAHAN PENGINAPAN
A17: BAYARAN SEWA PENGINAPAN (BSP) (SEMENANJUNG MALAYSIA) | K17: BAYARAN SEWA PENGINAPAN (BSP) (SABAH/ SARAWAK /WP LABUAN)
A18: RM (BSP) x hari = RM (Termasuk Bayaran Perkhidmatan & Cukai Perkhidmatan) [Resit ] | K18: RM (BSP) x hari = RM (Termasuk Bayaran Perkhidmatan & Cukai Perkhidmatan) [Resit ]
A19: RM (BSP) x hari = RM (Termasuk Bayaran Perkhidmatan & Cukai Perkhidmatan) [Resit ] | K19: RM (BSP) x hari = RM (Termasuk Bayaran Perkhidmatan & Cukai Perkhidmatan) [Resit ]
A20: Jumlah Bayaran Sewa Penginapan | H20: RM | K20: Jumlah Bayaran Sewa Penginapan | O20: RM

Sheet MS 4
A1: ELAUN LOJING (SEMENANJUNG MALAYSIA) | I1: ELAUN LOJING (SABAH/ SARAWAK /WP LABUAN)
A2: RM | D2: (Elaun Lojing) x | F2: malam = RM | I2: RM (Elaun Lojing) x | L2: malam = RM
A3: Tarikh Lojing: Alamat Lojing: | I3: Tarikh Lojing: Alamat Lojing:
A4: Tarikh Lojing: Alamat Lojing: | I4: Tarikh Lojing: Alamat Lojing:
A5: Jumlah Elaun Lojing | F5: RM | I5: Jumlah Elaun Lojing | M5: RM
A6: JUMLAH (B - KEMUDAHAN PENGINAPAN) | K6: RM | N6: =SUM('MS 3'!J20+'MS 3'!P20+'MS 4'!H5+'MS 4'!N5) -> 0
A8: - Sila tambah ruangan jika tidak mencukupi.
A9: C - KEMUDAHAN PENGANGKUTAN
A10: ELAUN PERJALANAN KENDERAAN
A11: Jenis Kenderaan | E11: Kiraan Kilometer | H11: Jarak (km) | I11: Kadar Sekilometer | M11: Jumlah (RM)
A12: Kereta | E12: 500 km pertama | H12: =SUM('MS 2'!E55) -> 0 | I12: RM | J12: 0.9 | K12: sen/km | M12: =SUM(H12*J12) -> 0
E13: 501 km dan seterusnya | I13: RM | J13: 0.8 | K13: sen/km | M13: =SUM(H13*J13) -> 0
A14: Motosikal | E14: 500 km pertama | I14: RM | J14: 0.6 | K14: sen/km | M14: =SUM(H14*J14) -> 0
E15: 501 km dan seterusnya | I15: RM | J15: 0.5 | K15: sen/km | M15: =SUM(H15*J15) -> 0
A16: Motobot/ motosangkut | E16: 10 kuasa kuda (k.k) dan ke bawah | I16: RM | J16: 0 | K16: sen/km | M16: =SUM(H16*J16) -> 0
E17: lebih dari 10 k.k. hingga 25 k.k. | I17: RM | J17: 0 | K17: sen/km | M17: =SUM(H17*J17) -> 0
E18: lebih dari 26 k.k. | I18: RM | J18: 0 | K18: sen/km | M18: =SUM(H18*J18) -> 0
A19: Basikal | E19: Kurang dari 10 hari | I19: RM | J19: 0 | K19: sen/km | M19: =SUM(H19*J19) -> 0
E20: Lebih dari 10 hari | I20: RM | J20: 0 | K20: sen/km | M20: =SUM(H20*J20) -> 0
A21: Jumlah Elaun Perjalanan Kenderaan | M21: =SUM(M12:N20) -> 0

Sheet MS 5
A1: TAMBANG PENGANGKUTAN AWAM
A2: Teksi/Kereta Sewa/e-Panggilan [Resit : ] | C2: RM
A3: Bas [Resit : ] | C3: RM
A4: Kereta Api [Resit : ] | C4: RM
A5: Motobot/Feri [Resit : ] | C5: RM
A6: Kapal Terbang [Resit : ] | C6: RM
A7: Lain-lain [Resit : ] | C7: RM
A8: Jumlah Tambang Pengangkutan Awam | C8: RM | D8: =SUM(D2+D3+D4+D5+D6+D7) -> 0
A9: JUMLAH (C – KEMUDAHAN PENGANGKUTAN) | C9: RM | D9: =SUM('MS 4'!M21+'MS 5'!D8) -> 0
A10: - Sila tambah ruangan jika tidak mencukupi.
A11: D - KEMUDAHAN LAIN
A12: ELAUN BANTUAN GAJI PEMANDU
A13:  RM300.00 | C13: RM
A14:  RM250.00 | C14: RM
A15:  (. km x RM0.20) [maksimum RM200.00 sebulan] | C15: RM
A16:  (. km x RM0.15) [maksimum RM160.00 sebulan] | C16: RM
A17: Jumlah | C17: RM | D17: =SUM(D13:D16) -> 0
A18: ELAUN HIDUP PEMANDU
A19:  Semenanjung Malaysia | B19: : malam x RM30.00 | C19: RM
A20:  Sabah/Sarawak/Labuan | B20: : malam x RM40.00 | C20: RM
A21:  Singapura/Brunei | B21: : malam x RM45.00 | C21: RM
A22: Jumlah | C22: RM | D22: =SUM(D19:D21) -> 0
A23: BELANJA PELBAGAI
A24: Komunikasi [Resit ] | C24: RM
A25: Dokumentasi [Resit ] | C25: RM
A26: Dobi [Resit ] | C26: RM
A27: Caj Senjata Api [ Resit ] | C27: RM
A28: Lebihan Bagasi / Pembungkusan [ Resit ] | C28: RM
A29: Tempat Letak Kereta [Resit/Penyata Touch&Go/Lain-lain ] | C29: RM
A30: Tol [Resit/Penyata Touch&Go/RFID/Lain-lain ] | C30: RM
A31: Tambang feri (RORO) [ Resit ] | C31: RM
A32: Bayaran berkaitan kesihatan [ Resit ] | C32: RM
A33: Kemasukan ke Premis/Kawasan [ Resit ] | C33: RM
A34: Bayaran Passport [Resit ] | C34: RM
A35: Jumlah Belanja Pelbagai | C35: RM | D35: =SUM(D24:D34) -> 0

Sheet MS 6
A1: ELAUN GANTIAN TETAP
A2: Bermalam | G2: Tidak Bermalam
A3: 2/3 x [ RM (Elaun Makan) + RM hari = RM | E3: (Elaun Lojing)] x | G3: 2/3 x [ RM (Elaun Harian) x = RM | J3: hari
A4: Jumlah Elaun Gantian Tetap | E4: RM | G4: Jumlah Elaun Gantian Tetap | H4: RM
A5: JUMLAH (D – KEMUDAHAN LAIN) | H5: RM | J5: =SUM('MS 5'!D17+'MS 5'!D22+'MS 5'!D35+F4+J4) -> 0
A6: JUMLAH KESELURUHAN TUNTUTAN (A + B + C + D) | H6: RM | J6: =SUM('MS 3'!P13+'MS 4'!N6+'MS 5'!D9+'MS 6'!J5) -> 0
A7: - Sila tambah ruangan jika tidak mencukupi.
A8: PENGAKUAN
A10: Saya mengaku bahawa:
A11: (a) perjalanan pada tarikh-tarikh tersebut adalah benar dan telah dibuat atas urusan rasmi;
A12: (b) tuntutan ini dibuat mengikut kadar dan syarat seperti yang dinyatakan di bawah peraturan bertugas rasmi yang berkuat kuasa dan/atau peraturan berkursus yang berkuat kuasa;
A13: (c) perbelanjaan yang tidak disokong dengan resit berjumlah sebanyak RM …...................... telah sebenarnya dilakukan dan dibayar oleh saya;
A14: (d) perbelanjaan yang disokong dengan resit bukan atas nama saya berjumlah sebanyak RM ……................... telah sebenarnya dilakukan dan dibayar bagi pihak saya atas urusan rasmi dan tuntutan adalah berdasarkan kelayakan saya;
A15: (e) semua butiran yang dinyatakan di atas adalah tepat dan benar dan saya bertanggungjawab terhadap semua maklumat yang dinyatakan; dan
A16: (f) sekiranya saya mengemukakan tuntutan palsu, saya boleh dikenakan tindakan di bawah seksyen 18, Akta Suruhanjaya Pencegahan Rasuah Malaysia 2009 [Akta 694] (Kesalahan dengan maksud untuk memperdayakan prinsipal oleh ejen) dan tindakan tatatertib di bawah Peraturan-Peraturan Pegawai Awam (Kelakuan dan Tatatertib) 1993 [P.U.(A) 395/1993].
A22: Tarikh : | C22: …....................................... | G22: ….................................................................
G23: ( Tandatangan Pemohon )

Sheet MS 7
A1: PENGESAHAN
A2: Berdasarkan pengakuan yang dinyatakan oleh pegawai yang memohon, disahkan bahawa perjalanan tersebut telah dilaksanakan atas urusan rasmi dan kelayakan tuntutan pegawai mematuhi peraturan kewangan yang berkuat kuasa.
A3: Tarikh: …………………………….. | B3: …………………………………….. (Tandatangan)
B4: …………………………………….. (Nama)
B5: …………………………………….. (Jawatan) b.p. Ketua Setiausaha/ Pegawai Pengawal
A6: PENDAHULUAN DIRI (JIKA ADA)
A7: Pendahuluan Diri diberi | C7: RM
A8: Tolak : Tuntutan sekarang | C8: RM
A9: Baki dituntut/Baki dibayar balik | C9: RM
A10: Catatan: - Tuntutan perjalanan boleh dilaksanakan melalui Sistem Pengurusan Maklumat Sumber Manusia (HRMIS) tertakluk kepada arahan yang ditetapkan dari semasa ke semasa.
